BEGIN:VCALENDAR
VERSION:2.0
PRODID:-//Squarespace Inc/Squarespace 6//v6//EN
BEGIN:VEVENT
UID:5e585b975b296714e04a14c4@squarespace.com
DTSTAMP:20200228T001848Z
DTSTART:20200429T220000Z
DTEND:20200430T000000Z
SUMMARY:Exhibition Opening: Fog
GEO:-35.24912;149.144319
LOCATION:anca gallery\, 1 Rosevear Place\, Dickson\, ACT\, 2602\, Australia
END:VEVENT
END:VCALENDAR
