BEGIN:VCALENDAR
VERSION:2.0
PRODID:-//Squarespace Inc/Squarespace 6//v6//EN
BEGIN:VEVENT
UID:5e3226cd1e28eb2e4b057f46@squarespace.com
DTSTAMP:20200130T011130Z
DTSTART:20200205T230000Z
DTEND:20200206T010000Z
SUMMARY:Exhibition Opening: A Provisional Landscape
GEO:-35.24912;149.144319
LOCATION:ANCA Gallery\, 1 Rosevear Place\, Dickson\, ACT\, 2602\, Australia
END:VEVENT
END:VCALENDAR
