BEGIN:VCALENDAR
VERSION:2.0
PRODID:-//Squarespace Inc/Squarespace 6//v6//EN
BEGIN:VEVENT
UID:5e3b9772bb57c9110d76dcdd@squarespace.com
DTSTAMP:20200228T001943Z
DTSTART:20200304T170000Z
DTEND:20200322T210000Z
SUMMARY:Exhibition: Pencil On
GEO:-35.24912;149.144319
LOCATION:anca gallery\, 1 Rosevear Place\, Dickson\, ACT\, 2602\, Australia
END:VEVENT
END:VCALENDAR
