BEGIN:VCALENDAR
VERSION:2.0
PRODID:-//Squarespace Inc/Squarespace 6//v6//EN
BEGIN:VEVENT
UID:5e3b9990b2ec5505f65bf309@squarespace.com
DTSTAMP:20200228T001200Z
DTSTART:20200401T160000Z
DTEND:20200419T210000Z
SUMMARY:Exhibition: Common Threads
GEO:-35.24912;149.144319
LOCATION:anca gallery\, 1 Rosevear Place\, Dickson\, ACT\, 2602\, Australia
END:VEVENT
END:VCALENDAR
