BEGIN:VCALENDAR
VERSION:2.0
PRODID:-//Squarespace Inc/Squarespace 6//v6//EN
BEGIN:VEVENT
UID:5e3b9c4bb2ec5505f65c7ff3@squarespace.com
DTSTAMP:20200228T001215Z
DTSTART:20200429T160000Z
DTEND:20200517T210000Z
SUMMARY:Exhibition: Fog
GEO:-35.24912;149.144319
LOCATION:anca gallery\, 1 Rosevear Place\, Dickson\, ACT\, 2602\, Australia
END:VEVENT
END:VCALENDAR
